BEGIN:VCALENDAR
PRODID:-//Det Danske Spejderkorps//NONSGML Gruppeweb//EN
VERSION:2.0
CALSCALE:GREGORIAN
X-PUBLISHED-TTL:PT1H
X-WR-CALNAME:Mikroer i Normannerne Gruppe
METHOD:PUBLISH
BEGIN:VEVENT
UID:gruppeweb.dk:2112:event:511
DTSTAMP:20260424T154251Z
LAST-MODIFIED:20251114T075421Z
SUMMARY:Støttens Julestue den 14. december
DESCRIPTION:\n
URL:https://www.normannerne.dk/begivenhed/stoettens-julestue-den-14-decembe
 r
DTSTART:20251214T100000Z
DTEND:20251214T140000Z
LOCATION:Normannerne Gruppe\, Tingvej 41\, 2300 København S
END:VEVENT
BEGIN:VEVENT
UID:gruppeweb.dk:2112:event:512
DTSTAMP:20260424T154251Z
LAST-MODIFIED:20251202T145225Z
SUMMARY:Spejdernes lejr 2026 - 1. rates tilmelding
DESCRIPTION:\n
URL:https://www.normannerne.dk/begivenhed/spejdernes-lejr-2026-1-rates-tilm
 elding
DTSTART:20260718T080000Z
DTEND:20260726T130000Z
LOCATION:Normannerne Gruppe\, Tingvej 41\, 2300 København S
END:VEVENT
BEGIN:VEVENT
UID:gruppeweb.dk:2112:event:513
DTSTAMP:20260424T154251Z
LAST-MODIFIED:20251202T150225Z
SUMMARY:Spejdernes Lejr 2026 - Fuld lejr pris
DESCRIPTION:Spejdernes Lejr 2026 - Skal du med?\nI sommeren 2026 samles 30.
 000 spejdere fra hele Danmark og verden til  \nSpejdernes Lejr. Det er Nor
 dens største spejderlejr.\n\n
URL:https://www.normannerne.dk/begivenhed/spejdernes-lejr-2026-fuld-lejr-pr
 is
DTSTART:20260718T080000Z
DTEND:20260726T130000Z
LOCATION:Normannerne Gruppe\, Tingvej 41\, 2300 København S
END:VEVENT
BEGIN:VEVENT
UID:gruppeweb.dk:2112:event:516
DTSTAMP:20260424T154251Z
LAST-MODIFIED:20251203T150802Z
SUMMARY:Fællesmøde vedrørende Spejdernes Lejr 2026
DESCRIPTION:\n
URL:https://www.normannerne.dk/begivenhed/faellesmoede-vedroerende-spejdern
 es-lejr-2026
DTSTART:20260519T160000Z
DTEND:20260519T170000Z
LOCATION:Normannerne Gruppe\, Tingvej 41\, 2300 København S
END:VEVENT
BEGIN:VEVENT
UID:gruppeweb.dk:2112:event:529
DTSTAMP:20260424T154251Z
LAST-MODIFIED:20260103T153216Z
SUMMARY:Skæg og blålys
DESCRIPTION:\n
URL:https://www.normannerne.dk/begivenhed/skaeg-og-blaalys-0
DTSTART;VALUE=DATE:20260610
LOCATION:
END:VEVENT
BEGIN:VEVENT
UID:gruppeweb.dk:2112:event:534
DTSTAMP:20260424T154251Z
LAST-MODIFIED:20260103T153222Z
SUMMARY:divisionsturnering
DESCRIPTION:\n
URL:https://www.normannerne.dk/begivenhed/divisionsturnering-3
DTSTART;VALUE=DATE:20260529
DTEND;VALUE=DATE:20260601
LOCATION:Normannerne Gruppe\, Tingvej 41\, 2300 København S
END:VEVENT
BEGIN:VEVENT
UID:gruppeweb.dk:2112:event:536
DTSTAMP:20260424T154251Z
LAST-MODIFIED:20260103T153223Z
SUMMARY:sommerafslutning
DESCRIPTION:\n
URL:https://www.normannerne.dk/begivenhed/sommerafslutning-0
DTSTART;VALUE=DATE:20260625
LOCATION:Normannerne Gruppe\, Tingvej 41\, 2300 København S
END:VEVENT
BEGIN:VEVENT
UID:gruppeweb.dk:2112:event:498
DTSTAMP:20260424T154251Z
LAST-MODIFIED:20260212T130431Z
SUMMARY:Mikrosommerlejr i Pinsen
DESCRIPTION:I pinsen\, den 6 – 9. juni tager mikrospejderne på sommerlej
 r til Egemosen.\n\nDet bliver en tur med en masse andre mikrospejdere fra 
 andre grupper.\n\nRammer og aktiviteter bliver lavet af spejdercentret Ege
 mosen\, så der er  \nstor fokus på\n\nkreative aktiviteter og overskud f
 ra egne ledere.\n\nVi skal sove i telt\, så det bliver helt fantastisk.\n
 \nDer vil komme mere udførlig pakke- og informationsseddel ud\, når ture
 n  \nnærmer sig.\n\nPris for turen er 400 kr.\n\nTilmelding til turen ska
 l ske senest 28. april.\n\n
URL:https://www.normannerne.dk/begivenhed/mikrosommerlejr-i-pinsen
DTSTART:20250606T153000Z
DTEND:20250609T120000Z
LOCATION:Egemosen\, Egemosevej 9\, 3660 Stenløse
END:VEVENT
BEGIN:VEVENT
UID:gruppeweb.dk:2112:event:508
DTSTAMP:20260424T154251Z
LAST-MODIFIED:20260212T130410Z
SUMMARY:Mikroskattejagt i Hareskoven
DESCRIPTION:Lørdag den 27. september er der 1-dagstur med mikrospejderne.\
 n\nVi tager til Hareskoven\, hvor vi skal afslutte mærket Skattejæger.\n
 \n\nVi mødes i hytten kl. 09.00 og regner med at være hjemme samme sted 
 kl.  \n14.00\n\n\nMan skal medbring madpakke til frokost og fyldt drikkedu
 nk.\n\nDerudover skal påklædning være til vejrliget.\n\n\nPris for ture
 n er 30 kr.\n\n
URL:https://www.normannerne.dk/begivenhed/mikroskattejagt-i-hareskoven
DTSTART:20250927T070000Z
DTEND:20250927T120000Z
LOCATION:Normannerne Gruppe\, Tingvej 41\, 2300 København S
END:VEVENT
BEGIN:VEVENT
UID:gruppeweb.dk:2112:event:510
DTSTAMP:20260424T154251Z
LAST-MODIFIED:20251014T070207Z
SUMMARY:Juletur 2025
DESCRIPTION:*Juletur 2025*\n\n\n\n\nAdresse:\n\nFDF Klinteborg\n\nRibsvej 9
 \, Ordrup\n\n4540 Fårevejle\n\n\nAfgang:Vi mødes på Tingvej\, fredag d.
  31/10 kl. 18:00 (bussen kører  \n18:30)\n\nHjemkomst:Vi forventer at væ
 re tilbage igen på Tingvej søndag d. 02/11  \nkl. 14:00\n\nPris: * 400
 **\,- pr. deltager (små børn under 5 år er gratis)*\n\n\n\nTilmeldings-
  og betalingsfrist er fredag d. 10. oktober! Dog gerne inden.\n\n\nVi glæ
 der os\n\n\n\n\nMed Spejder Hilsner Fra\n\n\nSpejderlederne\n\n\n\nHvis ma
 n har spørgsmål så spørg endelig gren lederne.\n\n\nHUSK at i skal væ
 re logget ind for at tilmelde - og har man spejdere i flere  \ngrene så s
 kal man lave en tilmelding for hver spejder.\n\n\n
URL:https://www.normannerne.dk/begivenhed/juletur-2025
DTSTART:20251031T170000Z
DTEND:20251102T130000Z
LOCATION:FDF Klinteborg\, Ribsvej 9\, Ordrup\, 4540 Fårevejle
END:VEVENT
BEGIN:VEVENT
UID:gruppeweb.dk:2112:event:551
DTSTAMP:20260424T154251Z
LAST-MODIFIED:20260221T054808Z
SUMMARY:Hyggetur for mikroer
DESCRIPTION:Fra den 27. februar til den 1. marts tager mikroerne på hygget
 ur til  \nHareskoven.\n\nNærmere angivet ved Egholm hytten i Ballerup (Py
 ramide hytten).\n\nDet er en fantastisk hytte i et rigtig fint område.\n\
 n\nDet er årets første mikrotur\, hvor der er en del nye mikrospejdere m
 ed.\n\nDerfor er turen lavet til at føle sig tryg med at tage på tur\, o
 g der er  \nlagt vægt på gode oplevelser og hygge.\n\n\nVi mødes i Norm
 annernes hytte om fredagen kl. 18 og er hjemme igen i hytten  \nom søndag
 en kl. 12.\n\nDer skal medbringes madpakke og drikkedunk til fredag aften.
 \n\n\nVi sover i køjesenge\, så det er ikke nødvendigt med liggeunderla
 g.\n\nDet kan dog med fordel medbringe lagen til at have under soveposen\,
  så man  \nikke ender på den bare madras.\n\n\nStil endelig spørgsmål 
 til mikrolederne\, hvis der er nogle.\n\n
URL:https://www.normannerne.dk/begivenhed/hyggetur-mikroer
DTSTART:20260227T170000Z
DTEND:20260301T110000Z
LOCATION:Egholm (Pyramidehytten)\, Tranemosevej 31\, 2750 Ba
END:VEVENT
BEGIN:VEVENT
UID:gruppeweb.dk:2112:event:552
DTSTAMP:20260424T154251Z
LAST-MODIFIED:20260221T071126Z
SUMMARY:Sommerlejr\, Mikro
DESCRIPTION:I 2026 er der Spejdernes Lejr i Roskilde.\n\nSpejdernes Lejr 20
 26 [1]\n\nDette er en kæmpelejr for alle spejdergrupper og andre ungdomsf
 oreninger i  \nDanmark.\n\nMan regner med\, at der kommer omkring 30.000 d
 eltager på lejren.\n\n\nDette skal mikroerne selvfølgelig med på\, da d
 et er en begivenhed\, man  \nhusker i mange år.\n\n\nMikrolederne har val
 gt at give mikroerne 3 dage på lejren\, for ikke at det  \nskal blive for
  overvældende.\n\n\nDe nærmere omstændigheder omkring hvor\, og hvornå
 r\, vi mødes før og  \nefter turen\, aftales senere med de der har tilme
 ldt sig.\n\nTuren koster 750 kr.\, hvor af de 300 kr. ikke kan refunderes 
 ved afbud.\n\nDerudover skal der være 100 kr. til lommepenge (administrer
 es af lederne)\,  \nhvor de 50 kr. bliver låst til lejr-souvenir og reste
 n til guf.\n\n\n\n[1] https://spejderneslejr.dk/\n
URL:https://www.normannerne.dk/begivenhed/sommerlejr-mikro
DTSTART:20260719T070000Z
DTEND:20260721T130000Z
LOCATION:Normannerne Gruppe\, Tingvej 41\, 2300 København S
END:VEVENT
BEGIN:VEVENT
UID:gruppeweb.dk:2112:event:555
DTSTAMP:20260424T154251Z
LAST-MODIFIED:20260324T193033Z
SUMMARY:PANDALØB 2026 ( junior)
DESCRIPTION:Pandaløb løb 2026\n\n\nStarten på Kastrup Fortet kl.10.00\, 
 vi er der kl.09.00\n\nHusk fuld unifrom\, med kniv ect. og madpakke og nog
 et at drikke\n\n
URL:https://www.normannerne.dk/begivenhed/pandaloeb-2026-junior
DTSTART:20260426T070000Z
DTEND:20260426T140000Z
LOCATION:Normannerne Gruppe\, Tingvej 41\, 2300 København S
END:VEVENT
BEGIN:VEVENT
UID:gruppeweb.dk:2112:event:559
DTSTAMP:20260424T154251Z
LAST-MODIFIED:20260417T062446Z
SUMMARY:Divisionsturnering 2026
DESCRIPTION:\nHvornår skal vi afsted?     Weekenden d. 29-31. maj 202
 6.\n\nHvor mødes vi?     På Tårnby station kl. 17:45.\n\nHvornår ko
 mmer vi hjem?  Vi slutter samme sted søndag kl. 15.00.\n\nHvor skal vi 
 hen?  Til Høbjerghus. Høbjerg Hegn 5-7 Helsinge.\n\nHvornår får jeg 
 mad?  Du får ikke mad fredag aften\, så du skal  \nderfor sørge for 
 at spise hjemmefra eller medbringe en madpakke.\n\n
URL:https://www.normannerne.dk/begivenhed/divisionsturnering-2026
DTSTART:20260529T154500Z
DTEND:20260531T130000Z
LOCATION:Høbjerghus\, Høbjerg Hegn 4\, 3200 Helsinge
END:VEVENT
END:VCALENDAR
